BEGIN:VCALENDAR
VERSION:2.0
PRODID:SchoolNow
CALSCALE:GREGORIAN
BEGIN:VEVENT
UID:8d4d5dba-e3ec-11ea-a396-0a5c3e7d2f55
DTSTAMP:20231218T211708Z
SUMMARY:School Board Meeting - Sept. 1\, 2020
LOCATION:Administration Center
URL;VALUE=URI:https://www.hammond.k12.in.us/calendar/2315224/school-board-m
 eeting-sept-1-2020
DTSTART:20200901T230000Z
DTEND:20200902T003000Z
END:VEVENT
END:VCALENDAR
