BEGIN:VCALENDAR
VERSION:2.0
PRODID:SchoolNow
CALSCALE:GREGORIAN
BEGIN:VEVENT
UID:e756328e-e3ea-11ea-b22b-0a40607b9f89
DTSTAMP:20210421T142501Z
SUMMARY:COVID-19 Testing August 24 - 31st Morton HS Parking Lot
URL;VALUE=URI:https://www.hammond.k12.in.us/calendar/2315223/covid-19-testi
 ng-august-24-31st
DTSTART:20200824T140000Z
DTEND:20200831T230000Z
ATTACH;FILENAME=bigstock-Coronavirus-Icon-Vector-Novel-354789068-1024x1024.
 jpg;FMTTYPE=image/jpeg:https://campussuite-storage.s3.amazonaws.com/prod/1
 559033/fab8744a-ab41-11ea-9bfa-127f10bcdb1b/2124740/09ff51fa-be32-11ea-b8a
 1-0a436d341147/file/bigstock-Coronavirus-Icon-Vector-Novel-354789068-1024x
 1024.jpg
END:VEVENT
END:VCALENDAR
