BEGIN:VCALENDAR
VERSION:2.0
PRODID:SchoolNow
CALSCALE:GREGORIAN
BEGIN:VEVENT
UID:5b77e2a2-dbe9-11ea-8a61-0a4a5839ed65
DTSTAMP:20210421T142501Z
SUMMARY:COVID Testing Lafayette ES Parking Lot
LOCATION:Lafayette ES Parking Lot
URL;VALUE=URI:https://www.hammond.k12.in.us/calendar/2304161/covid-testing
DTSTART:20200818T135900Z
DTEND:20200826T230000Z
END:VEVENT
END:VCALENDAR
