BEGIN:VCALENDAR
VERSION:2.0
PRODID:SchoolNow
CALSCALE:GREGORIAN
BEGIN:VEVENT
UID:1ce987d6-dbe7-11ea-bc0d-0a1583f63745
DTSTAMP:20210421T142501Z
SUMMARY:COVID Testing
LOCATION:Morton HS Parking Lot
URL;VALUE=URI:https://www.hammond.k12.in.us/calendar/2304158/covid-testing
DTSTART:20200815T140000Z
DTEND:20200815T230000Z
END:VEVENT
END:VCALENDAR
