BEGIN:VCALENDAR
VERSION:2.0
PRODID:SchoolNow
CALSCALE:GREGORIAN
BEGIN:VEVENT
UID:03076a64-db37-11ea-9645-12d4d281adb5
DTSTAMP:20231218T215731Z
SUMMARY:Teacher Work Day - June 4\, 2021
URL;VALUE=URI:https://www.hammond.k12.in.us/calendar/2303716/teacher-work-d
 ay-june-4-2021
DTSTART;VALUE=DATE:20210604
DTEND;VALUE=DATE:20210605
END:VEVENT
END:VCALENDAR
