BEGIN:VCALENDAR
VERSION:2.0
PRODID:SchoolNow
CALSCALE:GREGORIAN
BEGIN:VEVENT
UID:f0a8bc56-db36-11ea-a133-12d4d281adb5
DTSTAMP:20231218T215434Z
SUMMARY:Last Day of School 2021
URL;VALUE=URI:https://www.hammond.k12.in.us/calendar/2303715/last-day-of-sc
 hool-2021
DTSTART;VALUE=DATE:20210603
DTEND;VALUE=DATE:20210604
END:VEVENT
END:VCALENDAR
