BEGIN:VCALENDAR
VERSION:2.0
PRODID:SchoolNow
CALSCALE:GREGORIAN
BEGIN:VEVENT
UID:c5f37d0c-db36-11ea-811d-12d4d281adb5
DTSTAMP:20231218T224708Z
SUMMARY:First day of 4th Grading Period - Apr. 6\, 2021
URL;VALUE=URI:https://www.hammond.k12.in.us/calendar/2303713/first-day-of-4
 th-grading-period-apr-6-2021
DTSTART;VALUE=DATE:20210406
DTEND;VALUE=DATE:20210407
END:VEVENT
END:VCALENDAR
