BEGIN:VCALENDAR
VERSION:2.0
PRODID:SchoolNow
CALSCALE:GREGORIAN
BEGIN:VEVENT
UID:66d77a58-db36-11ea-a87a-12d4d281adb5
DTSTAMP:20231218T225109Z
SUMMARY:End of 3rd Grading Period - Mar. 26\, 2021
URL;VALUE=URI:https://www.hammond.k12.in.us/calendar/2303709/end-of-3rd-gra
 ding-period-mar-26-2021
DTSTART;VALUE=DATE:20210326
DTEND;VALUE=DATE:20210327
END:VEVENT
END:VCALENDAR
