BEGIN:VCALENDAR
VERSION:2.0
PRODID:SchoolNow
CALSCALE:GREGORIAN
BEGIN:VEVENT
UID:4e704b2a-db36-11ea-ad82-12d4d281adb5
DTSTAMP:20231218T220252Z
SUMMARY:President's Day 2021 (No School)
URL;VALUE=URI:https://www.hammond.k12.in.us/calendar/2303708/presidents-day
 -2021-no-school
DTSTART;VALUE=DATE:20210215
DTEND;VALUE=DATE:20210216
END:VEVENT
END:VCALENDAR
