BEGIN:VCALENDAR
VERSION:2.0
PRODID:SchoolNow
CALSCALE:GREGORIAN
BEGIN:VEVENT
UID:345d20dc-db36-11ea-8214-12d4d281adb5
DTSTAMP:20231218T221235Z
SUMMARY:eLearning Day & Parent/Teacher Conferences - Jan. 27\, 2021
URL;VALUE=URI:https://www.hammond.k12.in.us/calendar/2303707/elearning-day-
 parent-teacher-conferences-jan-27-2021
DTSTART;VALUE=DATE:20210127
DTEND;VALUE=DATE:20210128
END:VEVENT
END:VCALENDAR
