BEGIN:VCALENDAR
VERSION:2.0
PRODID:SchoolNow
CALSCALE:GREGORIAN
BEGIN:VEVENT
UID:02f9cc66-db36-11ea-b78f-12d4d281adb5
DTSTAMP:20231218T224905Z
SUMMARY:Second Semester Begins - Jan. 19\, 2021
URL;VALUE=URI:https://www.hammond.k12.in.us/calendar/2303706/second-semeste
 r-begins-jan-19-2021
DTSTART;VALUE=DATE:20210119
DTEND;VALUE=DATE:20210120
END:VEVENT
END:VCALENDAR
