BEGIN:VCALENDAR
VERSION:2.0
PRODID:SchoolNow
CALSCALE:GREGORIAN
BEGIN:VEVENT
UID:4afeecd2-db34-11ea-97cc-0a12398383f5
DTSTAMP:20231218T224851Z
SUMMARY:End of 1st Semester - Jan. 18\, 2021
URL;VALUE=URI:https://www.hammond.k12.in.us/calendar/2303705/end-of-1st-sem
 ester-jan-18-2021
DTSTART;VALUE=DATE:20210118
DTEND;VALUE=DATE:20210119
END:VEVENT
END:VCALENDAR
