BEGIN:VCALENDAR
VERSION:2.0
PRODID:SchoolNow
CALSCALE:GREGORIAN
BEGIN:VEVENT
UID:1d3634ae-db34-11ea-b16d-0a12398383f5
DTSTAMP:20231218T223608Z
SUMMARY:Martin Luther King Day 2021 (No School)
URL;VALUE=URI:https://www.hammond.k12.in.us/calendar/2303704/martin-luther-
 king-day-2021-no-school
DTSTART;VALUE=DATE:20210118
DTEND;VALUE=DATE:20210119
END:VEVENT
END:VCALENDAR
