BEGIN:VCALENDAR
VERSION:2.0
PRODID:SchoolNow
CALSCALE:GREGORIAN
BEGIN:VEVENT
UID:38fc3702-db33-11ea-8c12-0a92a3c37567
DTSTAMP:20231218T215716Z
SUMMARY:Teacher Work Day - Jan 15\, 2021
URL;VALUE=URI:https://www.hammond.k12.in.us/calendar/2303703/teacher-work-d
 ay-jan-15-2021
DTSTART;VALUE=DATE:20210115
DTEND;VALUE=DATE:20210116
END:VEVENT
END:VCALENDAR
