BEGIN:VCALENDAR
VERSION:2.0
PRODID:SchoolNow
CALSCALE:GREGORIAN
BEGIN:VEVENT
UID:224a3900-db33-11ea-a65b-0a92a3c37567
DTSTAMP:20231218T223431Z
SUMMARY:School Resumes - Jan. 4\, 2021
URL;VALUE=URI:https://www.hammond.k12.in.us/calendar/2303702/school-resumes
 -jan-4-2021
DTSTART;VALUE=DATE:20210104
DTEND;VALUE=DATE:20210105
END:VEVENT
END:VCALENDAR
