BEGIN:VCALENDAR
VERSION:2.0
PRODID:SchoolNow
CALSCALE:GREGORIAN
BEGIN:VEVENT
UID:8e70943e-db2f-11ea-a0e8-0a12398383f5
DTSTAMP:20231218T225700Z
SUMMARY:Winter Recess 2020
URL;VALUE=URI:https://www.hammond.k12.in.us/calendar/2303700/winter-recess-
 2020
DTSTART;VALUE=DATE:20201228
DTEND;VALUE=DATE:20210102
END:VEVENT
END:VCALENDAR
