BEGIN:VCALENDAR
VERSION:2.0
PRODID:SchoolNow
CALSCALE:GREGORIAN
BEGIN:VEVENT
UID:4db611bc-db2f-11ea-b57a-0a12398383f5
DTSTAMP:20231218T225711Z
SUMMARY:Christmas Day 2020
URL;VALUE=URI:https://www.hammond.k12.in.us/calendar/2303698/christmas-day-
 2020
DTSTART;VALUE=DATE:20201225
DTEND;VALUE=DATE:20201226
END:VEVENT
END:VCALENDAR
