BEGIN:VCALENDAR
VERSION:2.0
PRODID:SchoolNow
CALSCALE:GREGORIAN
BEGIN:VEVENT
UID:34a60d30-db2f-11ea-93d8-0a12398383f5
DTSTAMP:20231218T225721Z
SUMMARY:Last day before Winter Recess 2020
URL;VALUE=URI:https://www.hammond.k12.in.us/calendar/2303697/last-day-befor
 e-winter-recess-2020
DTSTART;VALUE=DATE:20201218
DTEND;VALUE=DATE:20201219
END:VEVENT
END:VCALENDAR
