BEGIN:VCALENDAR
VERSION:2.0
PRODID:SchoolNow
CALSCALE:GREGORIAN
BEGIN:VEVENT
UID:800fc4ea-db26-11ea-bf1d-12d4d281adb5
DTSTAMP:20231218T225729Z
SUMMARY:Day After Thanksgiving 2020
URL;VALUE=URI:https://www.hammond.k12.in.us/calendar/2303663/day-after-than
 ksgiving-2020
DTSTART;VALUE=DATE:20201127
DTEND;VALUE=DATE:20201128
END:VEVENT
END:VCALENDAR
