BEGIN:VCALENDAR
VERSION:2.0
PRODID:SchoolNow
CALSCALE:GREGORIAN
BEGIN:VEVENT
UID:1874df1e-db26-11ea-96bf-12d4d281adb5
DTSTAMP:20231218T224326Z
SUMMARY:Thanksgiving Break 2020 (No School)
URL;VALUE=URI:https://www.hammond.k12.in.us/calendar/2303661/thanksgiving-b
 reak-2020-no-school
DTSTART;VALUE=DATE:20201125
DTEND;VALUE=DATE:20201128
END:VEVENT
END:VCALENDAR
