BEGIN:VCALENDAR
VERSION:2.0
PRODID:SchoolNow
CALSCALE:GREGORIAN
BEGIN:VEVENT
UID:fc3ca426-db25-11ea-813f-12d4d281adb5
DTSTAMP:20231218T225759Z
SUMMARY:Parent/Teacher Conferences - Nov. 3\, 2020
URL;VALUE=URI:https://www.hammond.k12.in.us/calendar/2303660/parent-teacher
 -conferences-nov-3-2020
DTSTART;VALUE=DATE:20201103
DTEND;VALUE=DATE:20201104
END:VEVENT
END:VCALENDAR
