BEGIN:VCALENDAR
VERSION:2.0
PRODID:SchoolNow
CALSCALE:GREGORIAN
BEGIN:VEVENT
UID:bcdf8e1a-db25-11ea-b095-0a6cc179e421
DTSTAMP:20231218T224722Z
SUMMARY:First Day of 2nd Grading Period - Oct. 27\, 2020
URL;VALUE=URI:https://www.hammond.k12.in.us/calendar/2303659/first-day-of-2
 nd-grading-period-oct-27-2020
DTSTART;VALUE=DATE:20201027
DTEND;VALUE=DATE:20201028
END:VEVENT
END:VCALENDAR
