BEGIN:VCALENDAR
VERSION:2.0
PRODID:SchoolNow
CALSCALE:GREGORIAN
BEGIN:VEVENT
UID:7ca54f9c-db25-11ea-81ad-122e07c17d0d
DTSTAMP:20231218T215704Z
SUMMARY:Teacher Work Day - Oct. 26\, 2020
URL;VALUE=URI:https://www.hammond.k12.in.us/calendar/2303658/teacher-work-d
 ay-oct-26-2020
DTSTART;VALUE=DATE:20201026
DTEND;VALUE=DATE:20201027
END:VEVENT
END:VCALENDAR
