BEGIN:VCALENDAR
VERSION:2.0
PRODID:SchoolNow
CALSCALE:GREGORIAN
BEGIN:VEVENT
UID:3b1d8388-db24-11ea-8b2e-1262e27b8f89
DTSTAMP:20231218T224311Z
SUMMARY:Fall Break 2020 (No School)
URL;VALUE=URI:https://www.hammond.k12.in.us/calendar/2303657/fall-break-202
 0-no-school
DTSTART;VALUE=DATE:20201022
DTEND;VALUE=DATE:20201024
END:VEVENT
END:VCALENDAR
