BEGIN:VCALENDAR
VERSION:2.0
PRODID:SchoolNow
CALSCALE:GREGORIAN
BEGIN:VEVENT
UID:ed8a15dc-db23-11ea-a945-0a6cc179e421
DTSTAMP:20231218T225129Z
SUMMARY:End of 1st Grading Period - Oct. 21\, 2020
URL;VALUE=URI:https://www.hammond.k12.in.us/calendar/2303653/end-of-1st-gra
 ding-period-oct-21-2020
DTSTART;VALUE=DATE:20201021
DTEND;VALUE=DATE:20201022
END:VEVENT
END:VCALENDAR
