BEGIN:VCALENDAR
VERSION:2.0
PRODID:SchoolNow
CALSCALE:GREGORIAN
BEGIN:VEVENT
UID:8481b43c-db23-11ea-927e-0a6cc179e421
DTSTAMP:20231218T221055Z
SUMMARY:Labor Day 2020 (No School)
URL;VALUE=URI:https://www.hammond.k12.in.us/calendar/2303649/labor-day-2020
 -no-school
DTSTART;VALUE=DATE:20200907
DTEND;VALUE=DATE:20200908
END:VEVENT
END:VCALENDAR
