BEGIN:VCALENDAR
VERSION:2.0
PRODID:SchoolNow
CALSCALE:GREGORIAN
BEGIN:VEVENT
UID:8f6223ec-db22-11ea-91f1-1262e27b8f89
DTSTAMP:20231218T215650Z
SUMMARY:Teacher Work Day - Aug. 18\, 2020
URL;VALUE=URI:https://www.hammond.k12.in.us/calendar/2303640/teacher-work-d
 ay-aug-18-2020
DTSTART;VALUE=DATE:20200818
DTEND;VALUE=DATE:20200819
END:VEVENT
END:VCALENDAR
