BEGIN:VCALENDAR
VERSION:2.0
PRODID:SchoolNow
CALSCALE:GREGORIAN
BEGIN:VEVENT
UID:72dfc3a0-db22-11ea-8a64-1262e27b8f89
DTSTAMP:20231218T215636Z
SUMMARY:Teacher Work Day - Aug. 17\, 2020
URL;VALUE=URI:https://www.hammond.k12.in.us/calendar/2303638/teacher-work-d
 ay-aug-17-2020
DTSTART;VALUE=DATE:20200817
DTEND;VALUE=DATE:20200818
END:VEVENT
END:VCALENDAR
