BEGIN:VCALENDAR
VERSION:2.0
PRODID:SchoolNow
CALSCALE:GREGORIAN
BEGIN:VEVENT
UID:ccc4bdfe-db21-11ea-9aea-1262e27b8f89
DTSTAMP:20231218T224543Z
SUMMARY:First Day of School 2020
URL;VALUE=URI:https://www.hammond.k12.in.us/calendar/2303634/first-day-of-s
 chool-2020
DTSTART;VALUE=DATE:20200819
DTEND;VALUE=DATE:20200820
END:VEVENT
END:VCALENDAR
