BEGIN:VCALENDAR
VERSION:2.0
PRODID:SchoolNow
CALSCALE:GREGORIAN
BEGIN:VEVENT
UID:4f155f8a-db21-11ea-9fb1-1262e27b8f89
DTSTAMP:20231218T182952Z
SUMMARY:Executive Session - Aug. 11\, 2020
LOCATION:Administration Center
URL;VALUE=URI:https://www.hammond.k12.in.us/calendar/2303628/executive-sess
 ion-aug-11-2020
DTSTART:20200811T233000Z
DTEND:20200812T003000Z
ATTACH;FILENAME=SCH_ExecutiveSession_081120.pdf;FMTTYPE=application/pdf:htt
 ps://campussuite-storage.s3.amazonaws.com/prod/1559033/fab8744a-ab41-11ea-
 9bfa-127f10bcdb1b/2141864/3903f0f8-db21-11ea-a24f-1262e27b8f89/file/SCH_Ex
 ecutiveSession_081120.pdf
END:VEVENT
END:VCALENDAR
