BEGIN:VCALENDAR
VERSION:2.0
PRODID:SchoolNow
CALSCALE:GREGORIAN
BEGIN:VEVENT
UID:6e031d76-d0f7-11ea-889e-12618fe81a2b
DTSTAMP:20231218T215248Z
SUMMARY:Special Board Meeting - Aug. 11\, 2020
LOCATION:Administration Center
URL;VALUE=URI:https://www.hammond.k12.in.us/calendar/2294744/special-board-
 meeting-aug-11-2020
DTSTART:20200811T230000Z
DTEND:20200811T233000Z
ATTACH;FILENAME=SchoolBoardMeetings_Aug2020.pdf;FMTTYPE=application/pdf:htt
 ps://campussuite-storage.s3.amazonaws.com/prod/1559033/fab8744a-ab41-11ea-
 9bfa-127f10bcdb1b/2135389/6c152988-d0f6-11ea-87d7-128ddd754ee9/file/School
 BoardMeetings_Aug2020.pdf
ATTACH;FILENAME=SCH_SpecialMeetingNotice_08112020.pdf;FMTTYPE=application/p
 df:https://campussuite-storage.s3.amazonaws.com/prod/1559033/fab8744a-ab41
 -11ea-9bfa-127f10bcdb1b/2141865/403bba0e-db21-11ea-ad59-1262e27b8f89/file/
 SCH_SpecialMeetingNotice_08112020.pdf
END:VEVENT
END:VCALENDAR
