BEGIN:VCALENDAR
VERSION:2.0
PRODID:SchoolNow
CALSCALE:GREGORIAN
BEGIN:VEVENT
UID:3d420d64-d0f7-11ea-91d8-12618fe81a2b
DTSTAMP:20231218T182937Z
SUMMARY:Executive Session - Aug. 18\, 2020
LOCATION:Administration Center
URL;VALUE=URI:https://www.hammond.k12.in.us/calendar/2294743/executive-sess
 ion-aug-18-2020
DTSTART:20200818T223000Z
DTEND:20200818T230000Z
ATTACH;FILENAME=SCH_ExecutiveSession_081820.pdf;FMTTYPE=application/pdf:htt
 ps://campussuite-storage.s3.amazonaws.com/prod/1559033/fab8744a-ab41-11ea-
 9bfa-127f10bcdb1b/2135392/38751178-d0f7-11ea-b960-12618fe81a2b/file/SCH_Ex
 ecutiveSession_081820.pdf
END:VEVENT
END:VCALENDAR
