BEGIN:VCALENDAR
VERSION:2.0
PRODID:SchoolNow
CALSCALE:GREGORIAN
BEGIN:VEVENT
UID:d9f29a44-d0f6-11ea-a38d-0ae75dc82deb
DTSTAMP:20231218T211652Z
SUMMARY:School Board Meeting - Aug. 18\, 2020
LOCATION:Administration Center
URL;VALUE=URI:https://www.hammond.k12.in.us/calendar/2294733/school-board-m
 eeting-aug-18-2020
DTSTART:20200818T230000Z
DTEND:20200819T003000Z
ATTACH;FILENAME=SchoolBoardMeetings_Aug2020.pdf;FMTTYPE=application/pdf:htt
 ps://campussuite-storage.s3.amazonaws.com/prod/1559033/fab8744a-ab41-11ea-
 9bfa-127f10bcdb1b/2135389/6c152988-d0f6-11ea-87d7-128ddd754ee9/file/School
 BoardMeetings_Aug2020.pdf
END:VEVENT
END:VCALENDAR
