BEGIN:VCALENDAR
VERSION:2.0
PRODID:SchoolNow
CALSCALE:GREGORIAN
BEGIN:VEVENT
UID:00569364-c785-11ea-aa0e-12929dd75935
DTSTAMP:20231218T182918Z
SUMMARY:Executive Session - July 20\, 2020
LOCATION:Administration Center
URL;VALUE=URI:https://www.hammond.k12.in.us/calendar/2284043/executive-sess
 ion-july-20-2020
DTSTART:20200721T003000Z
DTEND:20200721T013000Z
ATTACH;FILENAME=SCH_ExecutiveSession_072020.pdf;FMTTYPE=application/pdf:htt
 ps://campussuite-storage.s3.amazonaws.com/prod/1559033/fab8744a-ab41-11ea-
 9bfa-127f10bcdb1b/2130362/f6c113ce-c784-11ea-ae73-12929dd75935/file/SCH_Ex
 ecutiveSession_072020.pdf
END:VEVENT
END:VCALENDAR
