BEGIN:VCALENDAR
VERSION:2.0
PRODID:SchoolNow
CALSCALE:GREGORIAN
BEGIN:VEVENT
UID:c0cb5512-c1f9-11ea-8360-0ab8af183ea1
DTSTAMP:20231218T182851Z
SUMMARY:Executive Session - July 21\, 2020
LOCATION:Administration Center
URL;VALUE=URI:https://www.hammond.k12.in.us/calendar/2274845/executive-sess
 ion-july-21-2020
DTSTART:20200721T223000Z
DTEND:20200721T230000Z
ATTACH;FILENAME=SCH_ExecutiveSession_072120.pdf;FMTTYPE=application/pdf:htt
 ps://campussuite-storage.s3.amazonaws.com/prod/1559033/fab8744a-ab41-11ea-
 9bfa-127f10bcdb1b/2127790/bd282a20-c1f9-11ea-ac5b-0ab8af183ea1/file/SCH_Ex
 ecutiveSession_072120.pdf
END:VEVENT
END:VCALENDAR
