BEGIN:VCALENDAR
VERSION:2.0
PRODID:SchoolNow
CALSCALE:GREGORIAN
BEGIN:VEVENT
UID:c35e0fc0-bc79-11ea-8779-1242a4b1e221
DTSTAMP:20231218T211610Z
SUMMARY:School Board Meeting - July 21\, 2020
LOCATION:Administration Center
URL;VALUE=URI:https://www.hammond.k12.in.us/calendar/2272500/school-board-m
 eeting-july-21-2020
DTSTART:20200721T230000Z
DTEND:20200722T003000Z
ATTACH;FILENAME=SchoolBoardMeetings_July2020Revised.pdf;FMTTYPE=application
 /pdf:https://campussuite-storage.s3.amazonaws.com/prod/1559033/fab8744a-ab
 41-11ea-9bfa-127f10bcdb1b/2127787/62ec2714-c1f9-11ea-9a1d-0ab8af183ea1/fil
 e/SchoolBoardMeetings_July2020Revised.pdf
END:VEVENT
END:VCALENDAR
