BEGIN:VCALENDAR
VERSION:2.0
PRODID:SchoolNow
CALSCALE:GREGORIAN
BEGIN:VEVENT
UID:6d1e872a-bc79-11ea-8819-1267c0299b59
DTSTAMP:20231218T182839Z
SUMMARY:Executive Session - July 10\, 2020
LOCATION:Administration Center
URL;VALUE=URI:https://www.hammond.k12.in.us/calendar/2272499/executive-sess
 ion-july-10-2020
DTSTART:20200710T230000Z
DTEND:20200711T000000Z
ATTACH;FILENAME=SCH_ExecutiveSession_071020.pdf;FMTTYPE=application/pdf:htt
 ps://campussuite-storage.s3.amazonaws.com/prod/1559033/fab8744a-ab41-11ea-
 9bfa-127f10bcdb1b/2124736/576d7c6c-be2f-11ea-95a7-0ae0a62f085f/file/SCH_Ex
 ecutiveSession_071020.pdf
END:VEVENT
END:VCALENDAR
