BEGIN:VCALENDAR
VERSION:2.0
PRODID:SchoolNow
CALSCALE:GREGORIAN
BEGIN:VEVENT
UID:4ade021c-bc79-11ea-be22-1267c0299b59
DTSTAMP:20231218T214340Z
SUMMARY:Public Work Session - July 14\, 2020
LOCATION:Administration Center
URL;VALUE=URI:https://www.hammond.k12.in.us/calendar/2272498/public-work-se
 ssion-july-14-2020
DTSTART:20200714T230000Z
DTEND:20200715T003000Z
ATTACH;FILENAME=SCH_PublicWorkSession_07142020.pdf;FMTTYPE=application/pdf:
 https://campussuite-storage.s3.amazonaws.com/prod/1559033/fab8744a-ab41-11
 ea-9bfa-127f10bcdb1b/2127785/bfe87e46-c1f8-11ea-af83-127e224d9455/file/SCH
 _PublicWorkSession_07142020.pdf
END:VEVENT
END:VCALENDAR
