BEGIN:VCALENDAR
VERSION:2.0
PRODID:SchoolNow
CALSCALE:GREGORIAN
BEGIN:VEVENT
UID:93b90336-bbc7-11ea-a3a8-124206d9a95d
DTSTAMP:20231218T211623Z
SUMMARY:School Board Meeting - July 7\, 2020
LOCATION:Administration Center
URL;VALUE=URI:https://www.hammond.k12.in.us/calendar/2272266/school-board-m
 eeting-july-7-2020
DTSTART:20200707T230000Z
DTEND:20200708T003000Z
ATTACH;FILENAME=SchoolBoardMeetings_July2020_Revised.pdf;FMTTYPE=applicatio
 n/pdf:https://campussuite-storage.s3.amazonaws.com/prod/1559033/fab8744a-a
 b41-11ea-9bfa-127f10bcdb1b/2125109/c1ab4dba-bfa2-11ea-8bdd-12804d697ec1/fi
 le/SchoolBoardMeetings_July2020_Revised.pdf
END:VEVENT
END:VCALENDAR
