BEGIN:VCALENDAR
VERSION:2.0
PRODID:SchoolNow
CALSCALE:GREGORIAN
BEGIN:VEVENT
UID:be9cc7c0-b63d-11ea-8df0-128627d7df57
DTSTAMP:20231218T181022Z
SUMMARY:Executive Session (Virtual) - June 25\, 2020
LOCATION:Administration Center / Online
URL;VALUE=URI:https://www.hammond.k12.in.us/calendar/2267599/executive-sess
 ion-virtual-june-25-2020
DTSTART:20200625T223000Z
DTEND:20200626T003000Z
END:VEVENT
END:VCALENDAR
